BEGIN:VCALENDAR
VERSION:2.0
PRODID:-//IFDS - ECPv6.0.1.1//NONSGML v1.0//EN
CALSCALE:GREGORIAN
METHOD:PUBLISH
X-ORIGINAL-URL:https://ifds.info
X-WR-CALDESC:Events for IFDS
REFRESH-INTERVAL;VALUE=DURATION:PT1H
X-Robots-Tag:noindex
X-PUBLISHED-TTL:PT1H
BEGIN:VTIMEZONE
TZID:America/Chicago
BEGIN:DAYLIGHT
TZOFFSETFROM:-0600
TZOFFSETTO:-0500
TZNAME:CDT
DTSTART:20210314T080000
END:DAYLIGHT
BEGIN:STANDARD
TZOFFSETFROM:-0500
TZOFFSETTO:-0600
TZNAME:CST
DTSTART:20211107T070000
END:STANDARD
TZID:America/Los_Angeles
BEGIN:DAYLIGHT
TZOFFSETFROM:-0800
TZOFFSETTO:-0700
TZNAME:PDT
DTSTART:20210314T100000
END:DAYLIGHT
BEGIN:STANDARD
TZOFFSETFROM:-0700
TZOFFSETTO:-0800
TZNAME:PST
DTSTART:20211107T090000
END:STANDARD
END:VTIMEZONE
BEGIN:VEVENT
DTSTART;TZID=America/Chicago:20210212T133000
DTEND;TZID=America/Chicago:20210212T143000
DTSTAMP:20260425T054800
CREATED:20210115T202956Z
LAST-MODIFIED:20210212T002315Z
UID:890-1613136600-1613140200@ifds.info
SUMMARY:ML-Opt @ UWash: Postponed-TBD
DESCRIPTION:This talk will be rescheduled for a later date.\nTitle: Convergence of the empirical superquantile for risk-sensitive machine learning \nAbstract:  I’ll present some background in risk-sensitive learning + Theorem 2.1 of  this paper (using ML nomenclature) \n 
URL:https://ifds.info/event/ml-opt-uwash-krishna-pillutla/
CATEGORIES:MLOpt@UWash
END:VEVENT
BEGIN:VEVENT
DTSTART;TZID=America/Chicago:20210219T133000
DTEND;TZID=America/Chicago:20210219T143000
DTSTAMP:20260425T054800
CREATED:20210115T203136Z
LAST-MODIFIED:20210115T203136Z
UID:892-1613741400-1613745000@ifds.info
SUMMARY:ML-Opt @ UWash: Omid Sadeghi
DESCRIPTION:Title: \nAbstract:
URL:https://ifds.info/event/ml-opt-uwash-omid-sadeghi/
CATEGORIES:MLOpt@UWash
END:VEVENT
BEGIN:VEVENT
DTSTART;TZID=America/Los_Angeles:20210226T133000
DTEND;TZID=America/Los_Angeles:20210226T143000
DTSTAMP:20260425T054800
CREATED:20210115T203300Z
LAST-MODIFIED:20220325T193610Z
UID:894-1614346200-1614349800@ifds.info
SUMMARY:ML-Opt @ UWash: Andrew Wagenmaker
DESCRIPTION:Title:\n\nAbstract:
URL:https://ifds.info/event/ml-opt-uwash-andrew-wagenmaker/
CATEGORIES:MLOpt@UWash
END:VEVENT
END:VCALENDAR