BEGIN:VCALENDAR
VERSION:2.0
PRODID:-//IFDS - ECPv6.0.1.1//NONSGML v1.0//EN
CALSCALE:GREGORIAN
METHOD:PUBLISH
X-ORIGINAL-URL:https://ifds.info
X-WR-CALDESC:Events for IFDS
REFRESH-INTERVAL;VALUE=DURATION:PT1H
X-Robots-Tag:noindex
X-PUBLISHED-TTL:PT1H
BEGIN:VTIMEZONE
TZID:America/Los_Angeles
BEGIN:DAYLIGHT
TZOFFSETFROM:-0800
TZOFFSETTO:-0700
TZNAME:PDT
DTSTART:20220313T100000
END:DAYLIGHT
BEGIN:STANDARD
TZOFFSETFROM:-0700
TZOFFSETTO:-0800
TZNAME:PST
DTSTART:20221106T090000
END:STANDARD
END:VTIMEZONE
BEGIN:VEVENT
DTSTART;TZID=America/Los_Angeles:20221209T133000
DTEND;TZID=America/Los_Angeles:20221209T133000
DTSTAMP:20260425T094819
CREATED:20221018T165647Z
LAST-MODIFIED:20221018T170200Z
UID:2322-1670592600-1670592600@ifds.info
SUMMARY:MLOpt:
DESCRIPTION:
URL:https://ifds.info/event/mlopt-6/
LOCATION:University of Washington\, Seattle\, 185 E Stevens Way NE\, Seattle\, WA\, 98195-2350\, United States
CATEGORIES:MLOpt@UWash
END:VEVENT
BEGIN:VEVENT
DTSTART;TZID=America/Los_Angeles:20221216T133000
DTEND;TZID=America/Los_Angeles:20221216T133000
DTSTAMP:20260425T094819
CREATED:20221018T165647Z
LAST-MODIFIED:20221018T170221Z
UID:2323-1671197400-1671197400@ifds.info
SUMMARY:MLOpt:
DESCRIPTION:
URL:https://ifds.info/event/mlopt-7/
LOCATION:University of Washington\, Seattle\, 185 E Stevens Way NE\, Seattle\, WA\, 98195-2350\, United States
CATEGORIES:MLOpt@UWash
END:VEVENT
END:VCALENDAR