BEGIN:VCALENDAR
VERSION:2.0
PRODID:-//IFDS - ECPv6.0.1.1//NONSGML v1.0//EN
CALSCALE:GREGORIAN
METHOD:PUBLISH
X-WR-CALNAME:IFDS
X-ORIGINAL-URL:https://ifds.info
X-WR-CALDESC:Events for IFDS
REFRESH-INTERVAL;VALUE=DURATION:PT1H
X-Robots-Tag:noindex
X-PUBLISHED-TTL:PT1H
BEGIN:VTIMEZONE
TZID:America/Chicago
BEGIN:DAYLIGHT
TZOFFSETFROM:-0600
TZOFFSETTO:-0500
TZNAME:CDT
DTSTART:20210314T080000
END:DAYLIGHT
BEGIN:STANDARD
TZOFFSETFROM:-0500
TZOFFSETTO:-0600
TZNAME:CST
DTSTART:20211107T070000
END:STANDARD
END:VTIMEZONE
BEGIN:VEVENT
DTSTART;TZID=America/Chicago:20210129T133000
DTEND;TZID=America/Chicago:20210129T143000
DTSTAMP:20260425T054740
CREATED:20210115T202824Z
LAST-MODIFIED:20210115T202824Z
UID:888-1611927000-1611930600@ifds.info
SUMMARY:ML-Opt @ UWash: Ronak Mehta
DESCRIPTION:Title: \nAbstract: \n 
URL:https://ifds.info/event/ml-opt-uwash-ronak-mehta/
CATEGORIES:MLOpt@UWash
END:VEVENT
END:VCALENDAR