BEGIN:VCALENDAR
VERSION:2.0
PRODID:-//IFDS - ECPv6.0.1.1//NONSGML v1.0//EN
CALSCALE:GREGORIAN
METHOD:PUBLISH
X-WR-CALNAME:IFDS
X-ORIGINAL-URL:https://ifds.info
X-WR-CALDESC:Events for IFDS
REFRESH-INTERVAL;VALUE=DURATION:PT1H
X-Robots-Tag:noindex
X-PUBLISHED-TTL:PT1H
BEGIN:VTIMEZONE
TZID:America/Los_Angeles
BEGIN:DAYLIGHT
TZOFFSETFROM:-0800
TZOFFSETTO:-0700
TZNAME:PDT
DTSTART:20210314T100000
END:DAYLIGHT
BEGIN:STANDARD
TZOFFSETFROM:-0700
TZOFFSETTO:-0800
TZNAME:PST
DTSTART:20211107T090000
END:STANDARD
END:VTIMEZONE
BEGIN:VEVENT
DTSTART;TZID=America/Los_Angeles:20210409T133000
DTEND;TZID=America/Los_Angeles:20210409T143000
DTSTAMP:20260425T093032
CREATED:20210412T183054Z
LAST-MODIFIED:20210412T183353Z
UID:1140-1617975000-1617978600@ifds.info
SUMMARY:ML-Opt: Krishna Pillutla
DESCRIPTION:Title: Distributionally Robust Machine Learning with the Superquantile 1) For Supervised Learning\, 2) For Federated Learning\n\n\nAbstract: I will talk about distributionally robust machine learning\, a principled approach for robust performance across subpopulations\, and shifting distributions. We will focus on the superquantile\, a.k.a. the Conditional Value at Risk (CVaR)\, which was popularized by the seminal work of UW’s own R. T. Rockafellar and co-authors in the field of computational finance and economics in the early 2000s.\nWe will first review the use of the superquantile for distributionally robust supervised learning. We will prove a generalization bound from first principles.\nSecond\, we will discuss an application of the superquantile in the field of federated learning\, i.e.\, the distributed training of machine learning models on mobile phones. We will quantify the extent to which a user conforms to the population distribution and show how the superquantile can be leveraged to improve performance on users who do not conform to the population. We will round of the discussion with a communication-efficient training algorithm and experimental results and heterogeneous datasets.\n\nBio: Krishna Pillutla is a 5th year Ph.D. student at the Paul G. Allen School of Computer Science and Engineering at the University of Washington\, where he is advised by Zaid Harchaoui and Sham Kakade. Krishna is broadly interested in machine learning and optimization and works in the particular areas of structured prediction and federated learning. Krishna was a 2019-20 JP Morgan Ph.D. Fellow.
URL:https://ifds.info/event/ml-opt-krishna-pillutla/
CATEGORIES:MLOpt@UWash
END:VEVENT
END:VCALENDAR