BEGIN:VCALENDAR
VERSION:2.0
PRODID:-//IFDS - ECPv6.0.1.1//NONSGML v1.0//EN
CALSCALE:GREGORIAN
METHOD:PUBLISH
X-WR-CALNAME:IFDS
X-ORIGINAL-URL:https://ifds.info
X-WR-CALDESC:Events for IFDS
REFRESH-INTERVAL;VALUE=DURATION:PT1H
X-Robots-Tag:noindex
X-PUBLISHED-TTL:PT1H
BEGIN:VTIMEZONE
TZID:America/Los_Angeles
BEGIN:DAYLIGHT
TZOFFSETFROM:-0800
TZOFFSETTO:-0700
TZNAME:PDT
DTSTART:20220313T100000
END:DAYLIGHT
BEGIN:STANDARD
TZOFFSETFROM:-0700
TZOFFSETTO:-0800
TZNAME:PST
DTSTART:20221106T090000
END:STANDARD
END:VTIMEZONE
BEGIN:VEVENT
DTSTART;TZID=America/Los_Angeles:20220211T123000
DTEND;TZID=America/Los_Angeles:20220211T133000
DTSTAMP:20260425T183112
CREATED:20220325T195326Z
LAST-MODIFIED:20220325T195446Z
UID:1910-1644582600-1644586200@ifds.info
SUMMARY:ML Opt@ UW: Vincent Roulet
DESCRIPTION:Speaker: Vincent Roulet \nTitle: Complexity Bounds of Iterative Linearization Algorithms for Discrete-Time Nonlinear Control \nAbstract: We revisit the nonlinear optimization approach to discrete-time nonlinear control and optimization algorithms based on iterative linearization. While widely popular in many domains\, these algorithms have mainly been analyzed from an asymptotic viewpoint. We establish non-asymptotic complexity bounds and global convergence for a class of generalized Gauss-Newton algorithms relying on iterative linearization of the nonlinear control problem\, henceforth calling iterative linear quadratic regulator or differential dynamic programming algorithms as subroutines. The sufficient conditions for global convergence are examined for multi-rate sampling schemes given the existence of a feedback linearization scheme. We illustrate the algorithms in synthetic experiments and provide a software library based on reverse-mode automatic differentiation to reproduce the numerical results.
URL:https://ifds.info/event/ml-opt-uw-vincent-roulet/
CATEGORIES:MLOpt@UWash
END:VEVENT
END:VCALENDAR