BEGIN:VCALENDAR
VERSION:2.0
PRODID:-//IFDS - ECPv6.0.1.1//NONSGML v1.0//EN
CALSCALE:GREGORIAN
METHOD:PUBLISH
X-WR-CALNAME:IFDS
X-ORIGINAL-URL:https://ifds.info
X-WR-CALDESC:Events for IFDS
REFRESH-INTERVAL;VALUE=DURATION:PT1H
X-Robots-Tag:noindex
X-PUBLISHED-TTL:PT1H
BEGIN:VTIMEZONE
TZID:America/Los_Angeles
BEGIN:DAYLIGHT
TZOFFSETFROM:-0800
TZOFFSETTO:-0700
TZNAME:PDT
DTSTART:20210314T100000
END:DAYLIGHT
BEGIN:STANDARD
TZOFFSETFROM:-0700
TZOFFSETTO:-0800
TZNAME:PST
DTSTART:20211107T090000
END:STANDARD
END:VTIMEZONE
BEGIN:VEVENT
DTSTART;TZID=America/Chicago:20210125T133000
DTEND;TZID=America/Chicago:20210125T143000
DTSTAMP:20260425T221916
CREATED:20210114T194544Z
LAST-MODIFIED:20210115T190559Z
UID:810-1611581400-1611585000@ifds.info
SUMMARY:IFDS Ideas Forum: Xuexhou Zhang
DESCRIPTION:Title: Statistical Robustness in Reinforcement Learning \nAbstract: \nXuezhou Zhang (Computer Sciences)\, advised by Jerry Zhu (Computer Sciences) and Kevin Jamieson (U of Washington)\, works on adaptivity and robustness in sequential decision making. His recent work focuses on designing reinforcement learning framework that learns from a diverse source of teaching signals and learns robustly in the presence of data corruptions.
URL:https://ifds.info/event/ifds-ideas-forum-xuezhou-zhang/
LOCATION:Webex
CATEGORIES:IFDS Ideas Forum
END:VEVENT
BEGIN:VEVENT
DTSTART;TZID=America/Los_Angeles:20210122T133000
DTEND;TZID=America/Los_Angeles:20210122T143000
DTSTAMP:20260425T221916
CREATED:20210115T202625Z
LAST-MODIFIED:20210115T202625Z
UID:886-1611322200-1611325800@ifds.info
SUMMARY:ML-Opt @ UWash: Lang Liu
DESCRIPTION:Title: \nAbstract:
URL:https://ifds.info/event/ml-opt-uwash-lang-liu/
LOCATION:WA
CATEGORIES:MLOpt@UWash
END:VEVENT
BEGIN:VEVENT
DTSTART;TZID=America/Los_Angeles:20210115T133000
DTEND;TZID=America/Los_Angeles:20210115T143000
DTSTAMP:20260425T221916
CREATED:20210115T201953Z
LAST-MODIFIED:20210115T205423Z
UID:882-1610717400-1610721000@ifds.info
SUMMARY:ML-Opt @ U Washington: Yue Yu
DESCRIPTION:Title: Proportional-integral projected gradient method for model predictive control \nAbstract: \n 
URL:https://ifds.info/event/ml-opt-u-washington-yue-yu/
LOCATION:WA
CATEGORIES:MLOpt@UWash
END:VEVENT
BEGIN:VEVENT
DTSTART;TZID=America/Chicago:20130327T140000
DTEND;TZID=America/Chicago:20130327T140000
DTSTAMP:20260425T221916
CREATED:20230313T144715Z
LAST-MODIFIED:20230313T144715Z
UID:2453-1364392800-1364392800@ifds.info
SUMMARY:IFDS Ideas Forum
DESCRIPTION:Current research
URL:https://ifds.info/event/ifds-ideas-forum-28/
LOCATION:WA
END:VEVENT
BEGIN:VEVENT
DTSTART;TZID=America/Chicago:20260425T221916
DTEND;TZID=America/Chicago:20260425T221916
DTSTAMP:20260425T221916
CREATED:20231024T211137Z
LAST-MODIFIED:20231024T211137Z
UID:2668-0-0@ifds.info
SUMMARY:Sushrut Karmalkar
DESCRIPTION:
URL:https://ifds.info/event/sushrut-karmalkar/
LOCATION:WA
END:VEVENT
BEGIN:VEVENT
DTSTART;TZID=America/Chicago:20260425T221916
DTEND;TZID=America/Chicago:20260425T221916
DTSTAMP:20260425T221916
CREATED:20231024T211123Z
LAST-MODIFIED:20231024T211123Z
UID:2667-0-0@ifds.info
SUMMARY:Thanasis Pittas
DESCRIPTION:
URL:https://ifds.info/event/thanasis-pittas/
LOCATION:WA
END:VEVENT
BEGIN:VEVENT
DTSTART;TZID=America/Chicago:20260425T221916
DTEND;TZID=America/Chicago:20260425T221916
DTSTAMP:20260425T221916
CREATED:20231024T211123Z
LAST-MODIFIED:20231024T211123Z
UID:2666-0-0@ifds.info
SUMMARY:Jitian Zhao / Zhexuan Liu
DESCRIPTION:
URL:https://ifds.info/event/jitian-zhao-zhexuan-liu/
LOCATION:WA
END:VEVENT
BEGIN:VEVENT
DTSTART;TZID=America/Chicago:20260425T221916
DTEND;TZID=America/Chicago:20260425T221916
DTSTAMP:20260425T221916
CREATED:20231024T211122Z
LAST-MODIFIED:20231024T211122Z
UID:2663-0-0@ifds.info
SUMMARY:William Powell / Andrew Lowy
DESCRIPTION:
URL:https://ifds.info/event/william-powell-andrew-lowy/
LOCATION:WA
END:VEVENT
BEGIN:VEVENT
DTSTART;TZID=America/Chicago:20260425T221916
DTEND;TZID=America/Chicago:20260425T221916
DTSTAMP:20260425T221916
CREATED:20231024T211122Z
LAST-MODIFIED:20231024T211122Z
UID:2664-0-0@ifds.info
SUMMARY:Karan Srivastava / Chenghui Li
DESCRIPTION:
URL:https://ifds.info/event/karan-srivastava-chenghui-li/
LOCATION:WA
END:VEVENT
BEGIN:VEVENT
DTSTART;TZID=America/Chicago:20260425T221916
DTEND;TZID=America/Chicago:20260425T221916
DTSTAMP:20260425T221916
CREATED:20231024T211108Z
LAST-MODIFIED:20231024T211108Z
UID:2660-0-0@ifds.info
SUMMARY:Ziqian Lin/ Lijun Ding
DESCRIPTION:
URL:https://ifds.info/event/ziqian-lin-lijun-ding/
LOCATION:WA
END:VEVENT
BEGIN:VEVENT
DTSTART;TZID=America/Chicago:20260425T221916
DTEND;TZID=America/Chicago:20260425T221916
DTSTAMP:20260425T221916
CREATED:20231024T211108Z
LAST-MODIFIED:20231024T211108Z
UID:2661-0-0@ifds.info
SUMMARY:Harit Vishwakarma/Ramya Vinayak
DESCRIPTION:
URL:https://ifds.info/event/harit-vishwakarma-ramya-vinayak/
LOCATION:WA
END:VEVENT
BEGIN:VEVENT
DTSTART;TZID=America/Chicago:20260425T221916
DTEND;TZID=America/Chicago:20260425T221916
DTSTAMP:20260425T221916
CREATED:20231024T211108Z
LAST-MODIFIED:20231024T211108Z
UID:2662-0-0@ifds.info
SUMMARY:Joe Shenouda/Matthew Zurek
DESCRIPTION:
URL:https://ifds.info/event/joe-shenouda-matthew-zurek/
LOCATION:WA
END:VEVENT
BEGIN:VEVENT
DTSTART;TZID=America/Chicago:20260425T221916
DTEND;TZID=America/Chicago:20260425T221916
DTSTAMP:20260425T221916
CREATED:20231024T211108Z
LAST-MODIFIED:20231024T211108Z
UID:2659-0-0@ifds.info
SUMMARY:Hanbaek Lyu / Ahmet Alacaoglu
DESCRIPTION:
URL:https://ifds.info/event/hanbaek-lyu-ahmet-alacaoglu/
LOCATION:WA
END:VEVENT
BEGIN:VEVENT
DTSTART;TZID=America/Chicago:20260425T221916
DTEND;TZID=America/Chicago:20260425T221916
DTSTAMP:20260425T221916
CREATED:20231024T211107Z
LAST-MODIFIED:20231024T211107Z
UID:2658-0-0@ifds.info
SUMMARY:Nicholas Roberts
DESCRIPTION:
URL:https://ifds.info/event/nicholas-roberts/
LOCATION:WA
END:VEVENT
BEGIN:VEVENT
DTSTART;TZID=America/Chicago:20260425T221916
DTEND;TZID=America/Chicago:20260425T221916
DTSTAMP:20260425T221916
CREATED:20231024T211105Z
LAST-MODIFIED:20231024T211105Z
UID:2654-0-0@ifds.info
SUMMARY:Alex Hayes
DESCRIPTION:
URL:https://ifds.info/event/alex-hayes/
LOCATION:WA
END:VEVENT
BEGIN:VEVENT
DTSTART;TZID=America/Chicago:20260425T221916
DTEND;TZID=America/Chicago:20260425T221916
DTSTAMP:20260425T221916
CREATED:20231024T211105Z
LAST-MODIFIED:20231024T211105Z
UID:2655-0-0@ifds.info
SUMMARY:Shi Chen
DESCRIPTION:
URL:https://ifds.info/event/shi-chen/
LOCATION:WA
END:VEVENT
BEGIN:VEVENT
DTSTART;TZID=America/Chicago:20260425T221916
DTEND;TZID=America/Chicago:20260425T221916
DTSTAMP:20260425T221916
CREATED:20231024T211105Z
LAST-MODIFIED:20231024T211105Z
UID:2656-0-0@ifds.info
SUMMARY:Ernest Ryu
DESCRIPTION:
URL:https://ifds.info/event/ernest-ryu/
LOCATION:WA
END:VEVENT
BEGIN:VEVENT
DTSTART;TZID=America/Chicago:20260425T221916
DTEND;TZID=America/Chicago:20260425T221916
DTSTAMP:20260425T221916
CREATED:20231024T211105Z
LAST-MODIFIED:20231024T211105Z
UID:2657-0-0@ifds.info
SUMMARY:Sixu Li/Yuchen Zeng
DESCRIPTION:
URL:https://ifds.info/event/sixu-li-yuchen-zeng/
LOCATION:WA
END:VEVENT
BEGIN:VEVENT
DTSTART;TZID=America/Chicago:20260425T221916
DTEND;TZID=America/Chicago:20260425T221916
DTSTAMP:20260425T221916
CREATED:20231024T211104Z
LAST-MODIFIED:20231024T211104Z
UID:2653-0-0@ifds.info
SUMMARY:Dimitris Papailiopoulos / Nayoung Lee
DESCRIPTION:
URL:https://ifds.info/event/dimitris-papailiopoulos-nayoung-lee/
LOCATION:WA
END:VEVENT
BEGIN:VEVENT
DTSTART;TZID=America/Chicago:20260425T221916
DTEND;TZID=America/Chicago:20260425T221916
DTSTAMP:20260425T221916
CREATED:20221018T165157Z
LAST-MODIFIED:20221018T165330Z
UID:2310-0-0@ifds.info
SUMMARY:IFDS All-Hands
DESCRIPTION:
URL:https://ifds.info/event/ifds-all-hands/
LOCATION:University of Washington\, Seattle\, 185 E Stevens Way NE\, Seattle\, WA\, 98195-2350\, United States
END:VEVENT
BEGIN:VEVENT
DTSTART;TZID=America/Chicago:20260425T221916
DTEND;TZID=America/Chicago:20260425T221916
DTSTAMP:20260425T221916
CREATED:20221018T165156Z
LAST-MODIFIED:20221018T165330Z
UID:2309-0-0@ifds.info
SUMMARY:MLOpt:
DESCRIPTION:
URL:https://ifds.info/event/mlopt/
LOCATION:University of Washington\, Seattle\, 185 E Stevens Way NE\, Seattle\, WA\, 98195-2350\, United States
END:VEVENT
END:VCALENDAR